BEGIN:VCALENDAR
VERSION:2.0
PRODID:-//Gulf Coast Consortia - ECPv4.9.12//NONSGML v1.0//EN
CALSCALE:GREGORIAN
METHOD:PUBLISH
X-WR-CALNAME:Gulf Coast Consortia
X-ORIGINAL-URL:http://theme.gcc.ulcomm.com
X-WR-CALDESC:Events for Gulf Coast Consortia
BEGIN:VTIMEZONE
TZID:America/Chicago
BEGIN:DAYLIGHT
TZOFFSETFROM:-0600
TZOFFSETTO:-0500
TZNAME:CDT
DTSTART:20190310T080000
END:DAYLIGHT
BEGIN:STANDARD
TZOFFSETFROM:-0500
TZOFFSETTO:-0600
TZNAME:CST
DTSTART:20191103T070000
END:STANDARD
END:VTIMEZONE
BEGIN:VEVENT
DTSTART;TZID=America/Chicago:20190515T090000
DTEND;TZID=America/Chicago:20190515T170000
DTSTAMP:20260419T214349
CREATED:20190522T140706Z
LAST-MODIFIED:20190522T141240Z
UID:17005-1557910800-1557939600@theme.gcc.ulcomm.com
SUMMARY:Rigor and Reproducibility Workshop\,
DESCRIPTION:\n\n[vc_btn title=”Agenda” shape=”square” color=”peacoc” align=”center” button_block=”true” link=”url:%2Fwp-content%2Fuploads%2Fpdf%2FRigor-and-Reproducibility-Agenda-15May2019.pdf||target:%20_blank|”] \n\n\n\n\n\n\n\n\n\n\n
URL:http://theme.gcc.ulcomm.com/event/rigor-and-reproducibility-workshop/
END:VEVENT
END:VCALENDAR