BEGIN:VCALENDAR
VERSION:2.0
PRODID:-//Gulf Coast Consortia - ECPv4.9.12//NONSGML v1.0//EN
CALSCALE:GREGORIAN
METHOD:PUBLISH
X-WR-CALNAME:Gulf Coast Consortia
X-ORIGINAL-URL:http://theme.gcc.ulcomm.com
X-WR-CALDESC:Events for Gulf Coast Consortia
BEGIN:VTIMEZONE
TZID:America/Chicago
BEGIN:DAYLIGHT
TZOFFSETFROM:-0600
TZOFFSETTO:-0500
TZNAME:CDT
DTSTART:20180311T080000
END:DAYLIGHT
BEGIN:STANDARD
TZOFFSETFROM:-0500
TZOFFSETTO:-0600
TZNAME:CST
DTSTART:20181104T070000
END:STANDARD
END:VTIMEZONE
BEGIN:VEVENT
DTSTART;TZID=America/Chicago:20180507T080000
DTEND;TZID=America/Chicago:20180507T170000
DTSTAMP:20260419T161756
CREATED:20190521T222209Z
LAST-MODIFIED:20190521T222338Z
UID:16936-1525680000-1525712400@theme.gcc.ulcomm.com
SUMMARY:Kavli Sensing the Future: Workshop I
DESCRIPTION:\n\n\n\n\n\n\nSome focal topics for the first workshop in this series will include: biomedical diagnostics and imaging; implantable and wearable sensors. \n\n\n\n[vc_btn title=”Workshop 1″ shape=”square” color=”peacoc” align=”center” button_block=”true” link=”url:https%3A%2F%2Fsci.rice.edu%2Fkavli-workshop1||target:%20_blank|”]\n\n\n\n\n\n\n\n\n\n\n
URL:http://theme.gcc.ulcomm.com/event/kavli-sensing-the-future-workshop-i/
LOCATION:RICE\, 6100 Main St\, Houston\, Texas\, 77005\, United States
CATEGORIES:GCCNXP
ATTACH;FMTTYPE=image/jpeg:http://theme.gcc.ulcomm.com/wp-content/uploads/2019/05/0116_KAVLI-sensor-b-1bew15q-TOP-HALF.jpg
ORGANIZER;CN="The%20Kavli%20Foundation":MAILTO:info@kavlifoundation.org
END:VEVENT
END:VCALENDAR