BEGIN:VCALENDAR
VERSION:2.0
PRODID:-//Gulf Coast Consortia - ECPv4.9.12//NONSGML v1.0//EN
CALSCALE:GREGORIAN
METHOD:PUBLISH
X-WR-CALNAME:Gulf Coast Consortia
X-ORIGINAL-URL:http://theme.gcc.ulcomm.com
X-WR-CALDESC:Events for Gulf Coast Consortia
BEGIN:VTIMEZONE
TZID:America/Chicago
BEGIN:DAYLIGHT
TZOFFSETFROM:-0600
TZOFFSETTO:-0500
TZNAME:CDT
DTSTART:20160313T080000
END:DAYLIGHT
BEGIN:STANDARD
TZOFFSETFROM:-0500
TZOFFSETTO:-0600
TZNAME:CST
DTSTART:20161106T070000
END:STANDARD
END:VTIMEZONE
BEGIN:VEVENT
DTSTART;TZID=America/Chicago:20161110T160000
DTEND;TZID=America/Chicago:20161110T180000
DTSTAMP:20260419T143318
CREATED:20190521T233514Z
LAST-MODIFIED:20190522T024252Z
UID:16980-1478793600-1478800800@theme.gcc.ulcomm.com
SUMMARY:Hour After Hours
DESCRIPTION:\n\n\n \n\n\n\n\n\n\n\n\n\n\n\n\n\n\n
URL:http://theme.gcc.ulcomm.com/event/hour-after-hours/
LOCATION:BioScience Research Collaborative Rm. 280\, United States
CATEGORIES:GCCRMP
ATTACH;FMTTYPE=image/jpeg:http://theme.gcc.ulcomm.com/wp-content/uploads/2019/05/Reg-Med-HAH-600x398.jpg
ORGANIZER;CN="Gulf%20Coast%20Consortia":MAILTO:dawnkoob@rice.edu
END:VEVENT
END:VCALENDAR