BEGIN:VCALENDAR
VERSION:2.0
PRODID:-//Gulf Coast Consortia - ECPv4.9.12//NONSGML v1.0//EN
CALSCALE:GREGORIAN
METHOD:PUBLISH
X-WR-CALNAME:Gulf Coast Consortia
X-ORIGINAL-URL:http://theme.gcc.ulcomm.com
X-WR-CALDESC:Events for Gulf Coast Consortia
BEGIN:VTIMEZONE
TZID:America/Chicago
BEGIN:DAYLIGHT
TZOFFSETFROM:-0600
TZOFFSETTO:-0500
TZNAME:CDT
DTSTART:20170312T080000
END:DAYLIGHT
BEGIN:STANDARD
TZOFFSETFROM:-0500
TZOFFSETTO:-0600
TZNAME:CST
DTSTART:20171105T070000
END:STANDARD
END:VTIMEZONE
BEGIN:VEVENT
DTSTART;TZID=America/Chicago:20170407T080000
DTEND;TZID=America/Chicago:20170407T170000
DTSTAMP:20260419T143646
CREATED:20190522T171102Z
LAST-MODIFIED:20190522T171150Z
UID:17120-1491552000-1491584400@theme.gcc.ulcomm.com
SUMMARY:7th Annual Translational Pain Symposium
DESCRIPTION:\n\n[vc_btn title=”Agenda Abstract Guide” shape=”square” color=”peacoc” align=”center” button_block=”true” link=”url:%2Fwp-content%2Fuploads%2Fpdf%2FTPR-2017-Abstract-Guide-Electronic-Version.pdf||target:%20_blank|”] \n\n\n\n\n\n\n\n\n\n\n
URL:http://theme.gcc.ulcomm.com/event/gcc-translational-pain-research-9th-annual-symposium-2-2/
LOCATION:Bioscience Research Collaborative (BRC)\, 6500 Main Street\, Auditorium\, Houston\, TX\, 77030\, United States
CATEGORIES:GCCTPRP
ATTACH;FMTTYPE=image/jpeg:http://theme.gcc.ulcomm.com/wp-content/uploads/2019/05/BRC-Outside-tower_8-8-17-2-1vn2owc-300x200.jpg
ORGANIZER;CN="Gulf%20Coast%20Consortia":MAILTO:dawnkoob@rice.edu
END:VEVENT
END:VCALENDAR