BEGIN:VCALENDAR
VERSION:2.0
PRODID:-//Gulf Coast Consortia - ECPv4.9.12//NONSGML v1.0//EN
CALSCALE:GREGORIAN
METHOD:PUBLISH
X-WR-CALNAME:Gulf Coast Consortia
X-ORIGINAL-URL:http://theme.gcc.ulcomm.com
X-WR-CALDESC:Events for Gulf Coast Consortia
BEGIN:VTIMEZONE
TZID:America/Chicago
BEGIN:DAYLIGHT
TZOFFSETFROM:-0600
TZOFFSETTO:-0500
TZNAME:CDT
DTSTART:20190310T080000
END:DAYLIGHT
BEGIN:STANDARD
TZOFFSETFROM:-0500
TZOFFSETTO:-0600
TZNAME:CST
DTSTART:20191103T070000
END:STANDARD
END:VTIMEZONE
BEGIN:VEVENT
DTSTART;TZID=America/Chicago:20190322T160000
DTEND;TZID=America/Chicago:20190322T170000
DTSTAMP:20260419T233436
CREATED:20190523T151715Z
LAST-MODIFIED:20190528T143830Z
UID:17354-1553270400-1553274000@theme.gcc.ulcomm.com
SUMMARY:Devika Subramanian\, Professor Computer Science\, Rice University
DESCRIPTION:\n\n\n\n\n\n\n[vc_btn title=”Profile” shape=”square” color=”peacoc” align=”center” button_block=”true” link=”url:https%3A%2F%2Fwww.cs.rice.edu%2F~devika%2F||target:%20_blank|”]\n\n\n\n\n\n\n\n\n\n\n
URL:http://theme.gcc.ulcomm.com/event/devika-subramanian/
LOCATION:BioScience Research Collaborative Auditorium\, 6500 Main St\, Houston\, Texas\, 77030\, United States
CATEGORIES:Keck Seminar Spring 2019
ATTACH;FMTTYPE=image/jpeg:http://theme.gcc.ulcomm.com/wp-content/uploads/2019/05/IMG_0068.jpg
ORGANIZER;CN="Gulf%20Coast%20Consortia":MAILTO:dawnkoob@rice.edu
END:VEVENT
END:VCALENDAR