BEGIN:VCALENDAR
VERSION:2.0
PRODID:-//Gulf Coast Consortia - ECPv4.9.12//NONSGML v1.0//EN
CALSCALE:GREGORIAN
METHOD:PUBLISH
X-WR-CALNAME:Gulf Coast Consortia
X-ORIGINAL-URL:http://theme.gcc.ulcomm.com
X-WR-CALDESC:Events for Gulf Coast Consortia
BEGIN:VTIMEZONE
TZID:America/Chicago
BEGIN:DAYLIGHT
TZOFFSETFROM:-0600
TZOFFSETTO:-0500
TZNAME:CDT
DTSTART:20190310T080000
END:DAYLIGHT
BEGIN:STANDARD
TZOFFSETFROM:-0500
TZOFFSETTO:-0600
TZNAME:CST
DTSTART:20191103T070000
END:STANDARD
END:VTIMEZONE
BEGIN:VEVENT
DTSTART;TZID=America/Chicago:20190124T180000
DTEND;TZID=America/Chicago:20190125T175900
DTSTAMP:20260419T174226
CREATED:20190329T021338Z
LAST-MODIFIED:20190521T160608Z
UID:15784-1548352800-1548439140@theme.gcc.ulcomm.com
SUMMARY:2nd Annual Texas Medical Center AMR and Stewardship Conference
DESCRIPTION:\n\n\n\n\n[vc_btn title=”2nd Annual Texas Medical Center AMR and Stewardship Conference” shape=”square” color=”peacoc” align=”left” link=”url:http%3A%2F%2F2ndannualtexasmedicalcenteramrandstewardshipconference.blogs.rice.edu||target:%20_blank|”]\n\n\n\n\n\n\n
URL:http://theme.gcc.ulcomm.com/event/2nd-annual-texas-medical-center-amr-and-stewardship-conference-2/
LOCATION:Bioscience Research Collaborative\, 6500 Main Street\, Auditorium\, Houston\, TX\, 77030\, United States
CATEGORIES:GCCAMRP
ATTACH;FMTTYPE=image/jpeg:http://theme.gcc.ulcomm.com/wp-content/uploads/revslider/home-1/lab-slide-2.jpg
ORGANIZER;CN="AMR%20and%20Stewardship%20Conference":MAILTO:dawnkoob@rice.edu
END:VEVENT
END:VCALENDAR